BEGIN:VCALENDAR
VERSION:2.0
PRODID:-//Nur Ein//Calendar//EN
CALSCALE:GREGORIAN
METHOD:PUBLISH
X-PUBLISHED-TTL:PT1H
REFRESH-INTERVAL;VALUE=DURATION:PT1H
X-WR-TIMEZONE:America/New_York
NAME:Nur Ein XXI
X-WR-CALNAME:Nur Ein XXI
BEGIN:VTIMEZONE
TZID:America/New_York
X-LIC-LOCATION:America/New_York
BEGIN:DAYLIGHT
TZOFFSETFROM:-0500
TZOFFSETTO:-0400
TZNAME:EDT
DTSTART:19700308T020000
RRULE:FREQ=YEARLY;BYMONTH=3;BYDAY=2SU
END:DAYLIGHT
BEGIN:STANDARD
TZOFFSETFROM:-0400
TZOFFSETTO:-0500
TZNAME:EST
DTSTART:19701101T020000
RRULE:FREQ=YEARLY;BYMONTH=11;BYDAY=1SU
END:STANDARD
END:VTIMEZONE
BEGIN:VEVENT
CLASS:PRIVATE
CATEGORIES:CONTEST,MUSIC
STATUS:TENTATIVE
X-MICROSOFT-CDO-BUSYSTATUS:FREE
UID:D8B34694C661101BCFE2224EDEAD1343e@songlander.com
DTSTAMP:20260422T190509Z
LAST-MODIFIED:20260422T190509Z
RELATED-TO:D8B34694C661101BCFE2224EDEAD1343r@songlander.com
URL:https://0.0.0.0:3000/titles/D8B34694C661101BCFE2224EDEAD1343
ATTACH:https://0.0.0.0:3000/titles/D8B34694C661101BCFE2224EDEAD1343
DTSTART;TZID=America/New_York:20260518T000000
DTEND;TZID=America/New_York:20260524T235900
SUMMARY:Nur Ein XXI - "Round 0"
DESCRIPTION:
END:VEVENT
BEGIN:VEVENT
CLASS:PRIVATE
CATEGORIES:CONTEST,MUSIC
STATUS:TENTATIVE
X-MICROSOFT-CDO-BUSYSTATUS:FREE
UID:D8B34694C661101BCFE2224EDEAD1343r@songlander.com
DTSTAMP:20260422T190509Z
LAST-MODIFIED:20260422T190509Z
RELATED-TO:D8B34694C661101BCFE2224EDEAD1343e@songlander.com
URL:https://0.0.0.0:3000/titles/D8B34694C661101BCFE2224EDEAD1343
ATTACH:https://0.0.0.0:3000/titles/D8B34694C661101BCFE2224EDEAD1343
DTSTART;TZID=America/New_York:20260524T235900
DTEND;TZID=America/New_York:20260524T235900
SUMMARY:DUE: Nur Ein XXI - "Round 0"
DESCRIPTION:Email bandname_title.mp3 to nurein.sidefight@gmail.com
BEGIN:VALARM
ACTION:DISPLAY
TRIGGER:-PT14H
REPEAT:4
DURATION:PT14H
END:VALARM
END:VEVENT
BEGIN:VEVENT
CLASS:PRIVATE
CATEGORIES:CONTEST,MUSIC
STATUS:TENTATIVE
X-MICROSOFT-CDO-BUSYSTATUS:FREE
UID:28FD0FBA0C61BB3E9E699E5F1E24356Be@songlander.com
DTSTAMP:20260422T190509Z
LAST-MODIFIED:20260422T190509Z
RELATED-TO:28FD0FBA0C61BB3E9E699E5F1E24356Br@songlander.com
URL:https://0.0.0.0:3000/titles/28FD0FBA0C61BB3E9E699E5F1E24356B
ATTACH:https://0.0.0.0:3000/titles/28FD0FBA0C61BB3E9E699E5F1E24356B
DTSTART;TZID=America/New_York:20260525T000000
DTEND;TZID=America/New_York:20260531T235900
SUMMARY:Nur Ein XXI - "Round 1"
DESCRIPTION:
END:VEVENT
BEGIN:VEVENT
CLASS:PRIVATE
CATEGORIES:CONTEST,MUSIC
STATUS:TENTATIVE
X-MICROSOFT-CDO-BUSYSTATUS:FREE
UID:28FD0FBA0C61BB3E9E699E5F1E24356Br@songlander.com
DTSTAMP:20260422T190509Z
LAST-MODIFIED:20260422T190509Z
RELATED-TO:28FD0FBA0C61BB3E9E699E5F1E24356Be@songlander.com
URL:https://0.0.0.0:3000/titles/28FD0FBA0C61BB3E9E699E5F1E24356B
ATTACH:https://0.0.0.0:3000/titles/28FD0FBA0C61BB3E9E699E5F1E24356B
DTSTART;TZID=America/New_York:20260531T235900
DTEND;TZID=America/New_York:20260531T235900
SUMMARY:DUE: Nur Ein XXI - "Round 1"
DESCRIPTION:Email bandname_title.mp3 to nurein.sidefight@gmail.com
BEGIN:VALARM
ACTION:DISPLAY
TRIGGER:-PT14H
REPEAT:4
DURATION:PT14H
END:VALARM
END:VEVENT
BEGIN:VEVENT
CLASS:PRIVATE
CATEGORIES:CONTEST,MUSIC
STATUS:TENTATIVE
X-MICROSOFT-CDO-BUSYSTATUS:FREE
UID:45AA9374003E79B7A14DE28AFA81E6BAe@songlander.com
DTSTAMP:20260422T190509Z
LAST-MODIFIED:20260422T190509Z
RELATED-TO:45AA9374003E79B7A14DE28AFA81E6BAr@songlander.com
URL:https://0.0.0.0:3000/titles/45AA9374003E79B7A14DE28AFA81E6BA
ATTACH:https://0.0.0.0:3000/titles/45AA9374003E79B7A14DE28AFA81E6BA
DTSTART;TZID=America/New_York:20260601T000000
DTEND;TZID=America/New_York:20260607T235900
SUMMARY:Nur Ein XXI - "Round 2"
DESCRIPTION:
END:VEVENT
BEGIN:VEVENT
CLASS:PRIVATE
CATEGORIES:CONTEST,MUSIC
STATUS:TENTATIVE
X-MICROSOFT-CDO-BUSYSTATUS:FREE
UID:45AA9374003E79B7A14DE28AFA81E6BAr@songlander.com
DTSTAMP:20260422T190509Z
LAST-MODIFIED:20260422T190509Z
RELATED-TO:45AA9374003E79B7A14DE28AFA81E6BAe@songlander.com
URL:https://0.0.0.0:3000/titles/45AA9374003E79B7A14DE28AFA81E6BA
ATTACH:https://0.0.0.0:3000/titles/45AA9374003E79B7A14DE28AFA81E6BA
DTSTART;TZID=America/New_York:20260607T235900
DTEND;TZID=America/New_York:20260607T235900
SUMMARY:DUE: Nur Ein XXI - "Round 2"
DESCRIPTION:Email bandname_title.mp3 to nurein.sidefight@gmail.com
BEGIN:VALARM
ACTION:DISPLAY
TRIGGER:-PT14H
REPEAT:4
DURATION:PT14H
END:VALARM
END:VEVENT
BEGIN:VEVENT
CLASS:PRIVATE
CATEGORIES:CONTEST,MUSIC
STATUS:TENTATIVE
X-MICROSOFT-CDO-BUSYSTATUS:FREE
UID:51F96F57A45D60CDAF50033C3DB6A2A4e@songlander.com
DTSTAMP:20260422T190509Z
LAST-MODIFIED:20260422T190509Z
RELATED-TO:51F96F57A45D60CDAF50033C3DB6A2A4r@songlander.com
URL:https://0.0.0.0:3000/titles/51F96F57A45D60CDAF50033C3DB6A2A4
ATTACH:https://0.0.0.0:3000/titles/51F96F57A45D60CDAF50033C3DB6A2A4
DTSTART;TZID=America/New_York:20260608T000000
DTEND;TZID=America/New_York:20260614T235900
SUMMARY:Nur Ein XXI - "Round 3"
DESCRIPTION:
END:VEVENT
BEGIN:VEVENT
CLASS:PRIVATE
CATEGORIES:CONTEST,MUSIC
STATUS:TENTATIVE
X-MICROSOFT-CDO-BUSYSTATUS:FREE
UID:51F96F57A45D60CDAF50033C3DB6A2A4r@songlander.com
DTSTAMP:20260422T190509Z
LAST-MODIFIED:20260422T190509Z
RELATED-TO:51F96F57A45D60CDAF50033C3DB6A2A4e@songlander.com
URL:https://0.0.0.0:3000/titles/51F96F57A45D60CDAF50033C3DB6A2A4
ATTACH:https://0.0.0.0:3000/titles/51F96F57A45D60CDAF50033C3DB6A2A4
DTSTART;TZID=America/New_York:20260614T235900
DTEND;TZID=America/New_York:20260614T235900
SUMMARY:DUE: Nur Ein XXI - "Round 3"
DESCRIPTION:Email bandname_title.mp3 to nurein.sidefight@gmail.com
BEGIN:VALARM
ACTION:DISPLAY
TRIGGER:-PT14H
REPEAT:4
DURATION:PT14H
END:VALARM
END:VEVENT
BEGIN:VEVENT
CLASS:PRIVATE
CATEGORIES:CONTEST,MUSIC
STATUS:TENTATIVE
X-MICROSOFT-CDO-BUSYSTATUS:FREE
UID:183530743CEFF358152EFDEF997F136Ee@songlander.com
DTSTAMP:20260422T190509Z
LAST-MODIFIED:20260422T190509Z
RELATED-TO:183530743CEFF358152EFDEF997F136Er@songlander.com
URL:https://0.0.0.0:3000/titles/183530743CEFF358152EFDEF997F136E
ATTACH:https://0.0.0.0:3000/titles/183530743CEFF358152EFDEF997F136E
DTSTART;TZID=America/New_York:20260615T000000
DTEND;TZID=America/New_York:20260621T235900
SUMMARY:Nur Ein XXI - "Round 4"
DESCRIPTION:
END:VEVENT
BEGIN:VEVENT
CLASS:PRIVATE
CATEGORIES:CONTEST,MUSIC
STATUS:TENTATIVE
X-MICROSOFT-CDO-BUSYSTATUS:FREE
UID:183530743CEFF358152EFDEF997F136Er@songlander.com
DTSTAMP:20260422T190509Z
LAST-MODIFIED:20260422T190509Z
RELATED-TO:183530743CEFF358152EFDEF997F136Ee@songlander.com
URL:https://0.0.0.0:3000/titles/183530743CEFF358152EFDEF997F136E
ATTACH:https://0.0.0.0:3000/titles/183530743CEFF358152EFDEF997F136E
DTSTART;TZID=America/New_York:20260621T235900
DTEND;TZID=America/New_York:20260621T235900
SUMMARY:DUE: Nur Ein XXI - "Round 4"
DESCRIPTION:Email bandname_title.mp3 to nurein.sidefight@gmail.com
BEGIN:VALARM
ACTION:DISPLAY
TRIGGER:-PT14H
REPEAT:4
DURATION:PT14H
END:VALARM
END:VEVENT
BEGIN:VEVENT
CLASS:PRIVATE
CATEGORIES:CONTEST,MUSIC
STATUS:TENTATIVE
X-MICROSOFT-CDO-BUSYSTATUS:FREE
UID:EC7AD8D5CEBBFB2420851B69356EB177e@songlander.com
DTSTAMP:20260422T190509Z
LAST-MODIFIED:20260422T190509Z
RELATED-TO:EC7AD8D5CEBBFB2420851B69356EB177r@songlander.com
URL:https://0.0.0.0:3000/titles/EC7AD8D5CEBBFB2420851B69356EB177
ATTACH:https://0.0.0.0:3000/titles/EC7AD8D5CEBBFB2420851B69356EB177
DTSTART;TZID=America/New_York:20260622T000000
DTEND;TZID=America/New_York:20260628T235900
SUMMARY:Nur Ein XXI - "Round 5"
DESCRIPTION:
END:VEVENT
BEGIN:VEVENT
CLASS:PRIVATE
CATEGORIES:CONTEST,MUSIC
STATUS:TENTATIVE
X-MICROSOFT-CDO-BUSYSTATUS:FREE
UID:EC7AD8D5CEBBFB2420851B69356EB177r@songlander.com
DTSTAMP:20260422T190509Z
LAST-MODIFIED:20260422T190509Z
RELATED-TO:EC7AD8D5CEBBFB2420851B69356EB177e@songlander.com
URL:https://0.0.0.0:3000/titles/EC7AD8D5CEBBFB2420851B69356EB177
ATTACH:https://0.0.0.0:3000/titles/EC7AD8D5CEBBFB2420851B69356EB177
DTSTART;TZID=America/New_York:20260628T235900
DTEND;TZID=America/New_York:20260628T235900
SUMMARY:DUE: Nur Ein XXI - "Round 5"
DESCRIPTION:Email bandname_title.mp3 to nurein.sidefight@gmail.com
BEGIN:VALARM
ACTION:DISPLAY
TRIGGER:-PT14H
REPEAT:4
DURATION:PT14H
END:VALARM
END:VEVENT
BEGIN:VEVENT
CLASS:PRIVATE
CATEGORIES:CONTEST,MUSIC
STATUS:TENTATIVE
X-MICROSOFT-CDO-BUSYSTATUS:FREE
UID:A92A5A0F1AFD36E187A08440DC8D88E1e@songlander.com
DTSTAMP:20260422T190509Z
LAST-MODIFIED:20260422T190509Z
RELATED-TO:A92A5A0F1AFD36E187A08440DC8D88E1r@songlander.com
URL:https://0.0.0.0:3000/titles/A92A5A0F1AFD36E187A08440DC8D88E1
ATTACH:https://0.0.0.0:3000/titles/A92A5A0F1AFD36E187A08440DC8D88E1
DTSTART;TZID=America/New_York:20260629T000000
DTEND;TZID=America/New_York:20260705T235900
SUMMARY:Nur Ein XXI - "Round 6"
DESCRIPTION:
END:VEVENT
BEGIN:VEVENT
CLASS:PRIVATE
CATEGORIES:CONTEST,MUSIC
STATUS:TENTATIVE
X-MICROSOFT-CDO-BUSYSTATUS:FREE
UID:A92A5A0F1AFD36E187A08440DC8D88E1r@songlander.com
DTSTAMP:20260422T190509Z
LAST-MODIFIED:20260422T190509Z
RELATED-TO:A92A5A0F1AFD36E187A08440DC8D88E1e@songlander.com
URL:https://0.0.0.0:3000/titles/A92A5A0F1AFD36E187A08440DC8D88E1
ATTACH:https://0.0.0.0:3000/titles/A92A5A0F1AFD36E187A08440DC8D88E1
DTSTART;TZID=America/New_York:20260705T235900
DTEND;TZID=America/New_York:20260705T235900
SUMMARY:DUE: Nur Ein XXI - "Round 6"
DESCRIPTION:Email bandname_title.mp3 to nurein.sidefight@gmail.com
BEGIN:VALARM
ACTION:DISPLAY
TRIGGER:-PT14H
REPEAT:4
DURATION:PT14H
END:VALARM
END:VEVENT
BEGIN:VEVENT
CLASS:PRIVATE
CATEGORIES:CONTEST,MUSIC
STATUS:TENTATIVE
X-MICROSOFT-CDO-BUSYSTATUS:FREE
UID:54A020F2C646582C79B9E3E9D40DF7C8e@songlander.com
DTSTAMP:20260422T190509Z
LAST-MODIFIED:20260422T190509Z
RELATED-TO:54A020F2C646582C79B9E3E9D40DF7C8r@songlander.com
URL:https://0.0.0.0:3000/titles/54A020F2C646582C79B9E3E9D40DF7C8
ATTACH:https://0.0.0.0:3000/titles/54A020F2C646582C79B9E3E9D40DF7C8
DTSTART;TZID=America/New_York:20260706T000000
DTEND;TZID=America/New_York:20260712T235900
SUMMARY:Nur Ein XXI - "Round 7"
DESCRIPTION:
END:VEVENT
BEGIN:VEVENT
CLASS:PRIVATE
CATEGORIES:CONTEST,MUSIC
STATUS:TENTATIVE
X-MICROSOFT-CDO-BUSYSTATUS:FREE
UID:54A020F2C646582C79B9E3E9D40DF7C8r@songlander.com
DTSTAMP:20260422T190509Z
LAST-MODIFIED:20260422T190509Z
RELATED-TO:54A020F2C646582C79B9E3E9D40DF7C8e@songlander.com
URL:https://0.0.0.0:3000/titles/54A020F2C646582C79B9E3E9D40DF7C8
ATTACH:https://0.0.0.0:3000/titles/54A020F2C646582C79B9E3E9D40DF7C8
DTSTART;TZID=America/New_York:20260712T235900
DTEND;TZID=America/New_York:20260712T235900
SUMMARY:DUE: Nur Ein XXI - "Round 7"
DESCRIPTION:Email bandname_title.mp3 to nurein.sidefight@gmail.com
BEGIN:VALARM
ACTION:DISPLAY
TRIGGER:-PT14H
REPEAT:4
DURATION:PT14H
END:VALARM
END:VEVENT
END:VCALENDAR
